BEGIN:VCALENDAR
VERSION:2.0
PRODID:SchoolNow
CALSCALE:GREGORIAN
BEGIN:VEVENT
UID:f126c5f8-005e-11f1-91ec-0afffc0575d1
DTSTAMP:20260424T082014Z
SUMMARY:AMS 7th/8th Grade Valentine’s Dance
URL;VALUE=URI:https://www.auburn.k12.ma.us/schools/auburn-middle-school/cal
 endar/8847896/ams-7th-8th-grade-valentine-s-dance
DTSTART:20260206T223000Z
DTEND:20260207T003000Z
END:VEVENT
END:VCALENDAR
