BEGIN:VCALENDAR
VERSION:2.0
PRODID:SchoolNow
CALSCALE:GREGORIAN
BEGIN:VEVENT
UID:f126c9d6-005e-11f1-bdd1-0afffc0575d1
DTSTAMP:20260424T082014Z
SUMMARY:AMS 6th Grade Valentine’s Dance
URL;VALUE=URI:https://www.auburn.k12.ma.us/schools/auburn-middle-school/cal
 endar/8847897/ams-6th-grade-valentine-s-dance
DTSTART:20260206T193000Z
DTEND:20260206T213000Z
END:VEVENT
END:VCALENDAR
