BEGIN:VCALENDAR
VERSION:2.0
PRODID:SchoolNow
CALSCALE:GREGORIAN
BEGIN:VEVENT
UID:ea64be40-0091-11f1-987b-02357750b357
DTSTAMP:20260424T082014Z
SUMMARY:7th Grade Perfect Attendance Incentive in Cafe (Block 6)
URL;VALUE=URI:https://www.auburn.k12.ma.us/schools/auburn-middle-school/cal
 endar/8848199/7th-grade-perfect-attendance-incentive-in-cafe-block-6
DTSTART:20260211T130000Z
DTEND:20260211T140000Z
END:VEVENT
END:VCALENDAR
