BEGIN:VCALENDAR
VERSION:2.0
PRODID:SchoolNow
CALSCALE:GREGORIAN
BEGIN:VEVENT
UID:f79359f2-213c-11f1-b68d-0a58a9feac02
DTSTAMP:20260424T082014Z
SUMMARY:AMS-ELA MCAS
URL;VALUE=URI:https://www.auburn.k12.ma.us/schools/auburn-middle-school/cal
 endar/8922206/ams-ela-mcas
DTSTART:20260406T120000Z
DTEND:20260406T150000Z
END:VEVENT
END:VCALENDAR
