BEGIN:VCALENDAR
VERSION:2.0
PRODID:SchoolNow
CALSCALE:GREGORIAN
BEGIN:VEVENT
UID:f42ddd5e-216f-11f1-b8f0-0222ddbd446b
DTSTAMP:20260424T082014Z
SUMMARY:AMS-ELA MCAS
URL;VALUE=URI:https://www.auburn.k12.ma.us/schools/auburn-middle-school/cal
 endar/8922922/ams-ela-mcas
DTSTART:20260407T120000Z
DTEND:20260407T150000Z
END:VEVENT
END:VCALENDAR
