BEGIN:VCALENDAR
VERSION:2.0
PRODID:SchoolNow
CALSCALE:GREGORIAN
BEGIN:VEVENT
UID:9702ae88-289b-11f1-b59f-0e60d6a1ec95
DTSTAMP:20260424T082014Z
SUMMARY:8th Gr. History MCAS
URL;VALUE=URI:https://www.auburn.k12.ma.us/schools/auburn-middle-school/cal
 endar/8945535/8th-gr-history-mcas
DTSTART:20260519T120000Z
DTEND:20260519T150000Z
END:VEVENT
END:VCALENDAR
