BEGIN:VCALENDAR
VERSION:2.0
PRODID:SchoolNow
CALSCALE:GREGORIAN
BEGIN:VEVENT
UID:9702b216-289b-11f1-9ba7-0e60d6a1ec95
DTSTAMP:20260424T082014Z
SUMMARY:8th Gr. History MCAS
URL;VALUE=URI:https://www.auburn.k12.ma.us/schools/auburn-middle-school/cal
 endar/8945536/8th-gr-history-mcas
DTSTART:20260520T120000Z
DTEND:20260520T150000Z
END:VEVENT
END:VCALENDAR
