BEGIN:VCALENDAR
VERSION:2.0
PRODID:SchoolNow
CALSCALE:GREGORIAN
BEGIN:VEVENT
UID:9702b478-289b-11f1-a8ac-0e60d6a1ec95
DTSTAMP:20260424T082014Z
SUMMARY:Math MCAS
URL;VALUE=URI:https://www.auburn.k12.ma.us/schools/auburn-middle-school/cal
 endar/8945537/math-mcas
DTSTART:20260506T120000Z
DTEND:20260506T150000Z
END:VEVENT
END:VCALENDAR
