BEGIN:VCALENDAR
VERSION:2.0
PRODID:SchoolNow
CALSCALE:GREGORIAN
BEGIN:VEVENT
UID:466453b8-2ec8-11f1-9fb5-0affd60dfde1
DTSTAMP:20260424T082014Z
SUMMARY:Spirit Day- Wear Red White and Blue
URL;VALUE=URI:https://www.auburn.k12.ma.us/schools/auburn-middle-school/cal
 endar/8966194/spirit-day-wear-red-white-and-blue
DTSTART;VALUE=DATE:20260522
DTEND;VALUE=DATE:20260523
END:VEVENT
END:VCALENDAR
