BEGIN:VCALENDAR
VERSION:2.0
PRODID:SchoolNow
CALSCALE:GREGORIAN
BEGIN:VEVENT
UID:466473d4-2ec8-11f1-aeb9-0affd60dfde1
DTSTAMP:20260424T082014Z
SUMMARY:AMS- Jazz Night/AMS Art Show- AMS Cafe
URL;VALUE=URI:https://www.auburn.k12.ma.us/schools/auburn-middle-school/cal
 endar/8966195/ams-jazz-night-ams-art-show-ams-cafe
DTSTART:20260416T220000Z
DTEND:20260417T000000Z
END:VEVENT
END:VCALENDAR
