BEGIN:VCALENDAR
VERSION:2.0
PRODID:SchoolNow
CALSCALE:GREGORIAN
BEGIN:VEVENT
UID:15f3787c-3291-11f1-8711-0a58a9feac02
DTSTAMP:20260424T082014Z
SUMMARY:8th Gr AMS Olympics
URL;VALUE=URI:https://www.auburn.k12.ma.us/schools/auburn-middle-school/cal
 endar/8977077/8th-gr-ams-olympics
DTSTART;VALUE=DATE:20260617
DTEND;VALUE=DATE:20260618
END:VEVENT
END:VCALENDAR
