BEGIN:VCALENDAR
VERSION:2.0
PRODID:SchoolNow
CALSCALE:GREGORIAN
BEGIN:VEVENT
UID:15f39b18-3291-11f1-bccf-0a58a9feac02
DTSTAMP:20260424T082014Z
SUMMARY:AMS 8th Gr Dance
LOCATION:Auburn/ Webster Elks Lodge #2118\, 754 Southbridge St\, Auburn\, M
 A 01501\, USA
URL;VALUE=URI:https://www.auburn.k12.ma.us/schools/auburn-middle-school/cal
 endar/8977078/ams-8th-gr-dance
DTSTART;VALUE=DATE:20260612
DTEND;VALUE=DATE:20260613
END:VEVENT
END:VCALENDAR
