BEGIN:VCALENDAR
VERSION:2.0
PRODID:SchoolNow
CALSCALE:GREGORIAN
BEGIN:VEVENT
UID:15f39e1a-3291-11f1-a076-0a58a9feac02
DTSTAMP:20260424T082014Z
SUMMARY:8th Grade Promotion
LOCATION:AMS
URL;VALUE=URI:https://www.auburn.k12.ma.us/schools/auburn-middle-school/cal
 endar/8977079/8th-grade-promotion
DTSTART;VALUE=DATE:20260622
DTEND;VALUE=DATE:20260623
END:VEVENT
END:VCALENDAR
