BEGIN:VCALENDAR
VERSION:2.0
PRODID:SchoolNow
CALSCALE:GREGORIAN
BEGIN:VEVENT
UID:15f3a112-3291-11f1-a09e-0a58a9feac02
DTSTAMP:20260424T082014Z
SUMMARY:AMS 8th Gr Cookout/Awards/Inflatables
URL;VALUE=URI:https://www.auburn.k12.ma.us/schools/auburn-middle-school/cal
 endar/8977080/ams-8th-gr-cookout-awards-inflatables
DTSTART;VALUE=DATE:20260618
DTEND;VALUE=DATE:20260619
END:VEVENT
END:VCALENDAR
