BEGIN:VCALENDAR
VERSION:2.0
PRODID:SchoolNow
CALSCALE:GREGORIAN
BEGIN:VEVENT
UID:15f3a234-3291-11f1-80a1-0a58a9feac02
DTSTAMP:20260424T082014Z
SUMMARY:8th Gr AMS Mini Golf
URL;VALUE=URI:https://www.auburn.k12.ma.us/schools/auburn-middle-school/cal
 endar/8977081/8th-gr-ams-mini-golf
DTSTART;VALUE=DATE:20260616
DTEND;VALUE=DATE:20260617
END:VEVENT
END:VCALENDAR
