BEGIN:VCALENDAR
VERSION:2.0
PRODID:SchoolNow
CALSCALE:GREGORIAN
BEGIN:VEVENT
UID:32b3095a-6262-11f0-8533-0afff7d5644b
DTSTAMP:20260421T150520Z
SUMMARY:Pakachoag Pride Day!
URL;VALUE=URI:https://www.auburn.k12.ma.us/schools/pakachoag-elementary-sch
 ool/calendar/8420012/pakachoag-pride-day
DTSTART;VALUE=DATE:20260227
DTEND;VALUE=DATE:20260228
END:VEVENT
END:VCALENDAR
