BEGIN:VCALENDAR
VERSION:2.0
PRODID:SchoolNow
CALSCALE:GREGORIAN
BEGIN:VEVENT
UID:32b30a4a-6262-11f0-bbf9-0afff7d5644b
DTSTAMP:20260421T090020Z
SUMMARY:Pakachoag Pride Day!
URL;VALUE=URI:https://www.auburn.k12.ma.us/schools/pakachoag-elementary-sch
 ool/calendar/8420013/pakachoag-pride-day
DTSTART;VALUE=DATE:20260327
DTEND;VALUE=DATE:20260328
END:VEVENT
END:VCALENDAR
