BEGIN:VCALENDAR
VERSION:2.0
PRODID:SchoolNow
CALSCALE:GREGORIAN
BEGIN:VEVENT
UID:2a4f9856-632e-11f0-a480-029cb1b5a949
DTSTAMP:20260421T090020Z
SUMMARY:No School for Kindergarten ONLY - K screening
URL;VALUE=URI:https://www.auburn.k12.ma.us/schools/pakachoag-elementary-sch
 ool/calendar/8423717/no-school-for-kindergarten-only-k-screening
DTSTART;VALUE=DATE:20260501
DTEND;VALUE=DATE:20260502
END:VEVENT
END:VCALENDAR
