BEGIN:VCALENDAR
VERSION:2.0
PRODID:SchoolNow
CALSCALE:GREGORIAN
BEGIN:VEVENT
UID:2a4f9c8e-632e-11f0-b3ad-029cb1b5a949
DTSTAMP:20260421T090020Z
SUMMARY:Pakachoag Pride Day!
URL;VALUE=URI:https://www.auburn.k12.ma.us/schools/pakachoag-elementary-sch
 ool/calendar/8423719/pakachoag-pride-day
DTSTART;VALUE=DATE:20260417
DTEND;VALUE=DATE:20260418
END:VEVENT
END:VCALENDAR
