BEGIN:VCALENDAR
VERSION:2.0
PRODID:SchoolNow
CALSCALE:GREGORIAN
BEGIN:VEVENT
UID:2a4f9eb4-632e-11f0-8bd1-029cb1b5a949
DTSTAMP:20260421T150520Z
SUMMARY:Half Day for Students and Staff
URL;VALUE=URI:https://www.auburn.k12.ma.us/schools/pakachoag-elementary-sch
 ool/calendar/8423721/half-day-for-students-and-staff
DTSTART;VALUE=DATE:20251223
DTEND;VALUE=DATE:20251224
END:VEVENT
END:VCALENDAR
