BEGIN:VCALENDAR
VERSION:2.0
PRODID:SchoolNow
CALSCALE:GREGORIAN
BEGIN:VEVENT
UID:2a4f9fc2-632e-11f0-8e86-029cb1b5a949
DTSTAMP:20260421T150520Z
SUMMARY:Winter Recess for Students & Staff
URL;VALUE=URI:https://www.auburn.k12.ma.us/schools/pakachoag-elementary-sch
 ool/calendar/8423722/winter-recess-for-students-staff
DTSTART;VALUE=DATE:20251224
DTEND;VALUE=DATE:20260103
END:VEVENT
END:VCALENDAR
