BEGIN:VCALENDAR
VERSION:2.0
PRODID:SchoolNow
CALSCALE:GREGORIAN
BEGIN:VEVENT
UID:e90eb3ea-7c46-11f0-aa03-0a58a9feac02
DTSTAMP:20260421T090020Z
SUMMARY:No School for Students - Professional Development for Teachers
URL;VALUE=URI:https://www.auburn.k12.ma.us/schools/pakachoag-elementary-sch
 ool/calendar/8517872/no-school-for-students-professional-development-for-t
 eachers
DTSTART;VALUE=DATE:20260320
DTEND;VALUE=DATE:20260321
END:VEVENT
END:VCALENDAR
