BEGIN:VCALENDAR
VERSION:2.0
PRODID:SchoolNow
CALSCALE:GREGORIAN
BEGIN:VEVENT
UID:e90eb6a6-7c46-11f0-bb0c-0a58a9feac02
DTSTAMP:20260421T090020Z
SUMMARY:Half Day for Students - Professional Development for Teachers
URL;VALUE=URI:https://www.auburn.k12.ma.us/schools/pakachoag-elementary-sch
 ool/calendar/8517875/half-day-for-students-professional-development-for-te
 achers
DTSTART;VALUE=DATE:20260515
DTEND;VALUE=DATE:20260516
END:VEVENT
END:VCALENDAR
