BEGIN:VCALENDAR
VERSION:2.0
PRODID:SchoolNow
CALSCALE:GREGORIAN
BEGIN:VEVENT
UID:e90eb8c2-7c46-11f0-8534-0a58a9feac02
DTSTAMP:20260421T150520Z
SUMMARY:Half Day - Last Day for Students & Staff
URL;VALUE=URI:https://www.auburn.k12.ma.us/schools/pakachoag-elementary-sch
 ool/calendar/8517877/half-day-last-day-for-students-staff
DTSTART;VALUE=DATE:20260623
DTEND;VALUE=DATE:20260624
END:VEVENT
END:VCALENDAR
