BEGIN:VCALENDAR
VERSION:2.0
PRODID:SchoolNow
CALSCALE:GREGORIAN
BEGIN:VEVENT
UID:e90eb9a8-7c46-11f0-b906-0a58a9feac02
DTSTAMP:20260421T150520Z
SUMMARY:Juneteenth Observed (No School if Snow Day)
URL;VALUE=URI:https://www.auburn.k12.ma.us/schools/pakachoag-elementary-sch
 ool/calendar/8517878/juneteenth-observed-no-school-if-snow-day
DTSTART;VALUE=DATE:20260619
DTEND;VALUE=DATE:20260620
END:VEVENT
END:VCALENDAR
