BEGIN:VCALENDAR
VERSION:2.0
PRODID:SchoolNow
CALSCALE:GREGORIAN
BEGIN:VEVENT
UID:184f2ea6-9262-11f0-bf30-0a58a9feac02
DTSTAMP:20260421T150520Z
SUMMARY:Winter Concert - Grade 2
URL;VALUE=URI:https://www.auburn.k12.ma.us/schools/pakachoag-elementary-sch
 ool/calendar/8624938/winter-concert-grade-2
DTSTART:20260120T153000Z
DTEND:20260120T160000Z
END:VEVENT
END:VCALENDAR
