BEGIN:VCALENDAR
VERSION:2.0
PRODID:SchoolNow
CALSCALE:GREGORIAN
BEGIN:VEVENT
UID:184f33a6-9262-11f0-b7c5-0a58a9feac02
DTSTAMP:20260421T090020Z
SUMMARY:Report Cards Issued
URL;VALUE=URI:https://www.auburn.k12.ma.us/schools/pakachoag-elementary-sch
 ool/calendar/8624943/report-cards-issued
DTSTART;VALUE=DATE:20260331
DTEND;VALUE=DATE:20260401
END:VEVENT
END:VCALENDAR
