BEGIN:VCALENDAR
VERSION:2.0
PRODID:SchoolNow
CALSCALE:GREGORIAN
BEGIN:VEVENT
UID:184f348c-9262-11f0-bd27-0a58a9feac02
DTSTAMP:20260421T090020Z
SUMMARY:Pakachoag STEAM Night 5:00-6:30
URL;VALUE=URI:https://www.auburn.k12.ma.us/schools/pakachoag-elementary-sch
 ool/calendar/8624944/pakachoag-steam-night-5-00-6-30
DTSTART;VALUE=DATE:20260409
DTEND;VALUE=DATE:20260410
END:VEVENT
END:VCALENDAR
