BEGIN:VCALENDAR
VERSION:2.0
PRODID:SchoolNow
CALSCALE:GREGORIAN
BEGIN:VEVENT
UID:184f39dc-9262-11f0-92a9-0a58a9feac02
DTSTAMP:20260421T090020Z
SUMMARY:Memorial Day Concert
URL;VALUE=URI:https://www.auburn.k12.ma.us/schools/pakachoag-elementary-sch
 ool/calendar/8624948/memorial-day-concert
DTSTART:20260526T173000Z
DTEND:20260526T180000Z
END:VEVENT
END:VCALENDAR
