BEGIN:VCALENDAR
VERSION:2.0
PRODID:SchoolNow
CALSCALE:GREGORIAN
BEGIN:VEVENT
UID:0f1e4abe-9295-11f0-a7b6-0affe891abf9
DTSTAMP:20260421T150520Z
SUMMARY:Buddy Bingo
LOCATION:AHS Cafeteria
URL;VALUE=URI:https://www.auburn.k12.ma.us/schools/pakachoag-elementary-sch
 ool/calendar/8626412/buddy-bingo
DTSTART:20260203T230000Z
DTEND:20260204T003000Z
END:VEVENT
END:VCALENDAR
