BEGIN:VCALENDAR
VERSION:2.0
PRODID:SchoolNow
CALSCALE:GREGORIAN
BEGIN:VEVENT
UID:41ff56e8-cf3b-11f0-a4cd-0affecbb2c27
DTSTAMP:20260421T090020Z
SUMMARY:Neon Dance! Kindergarten
URL;VALUE=URI:https://www.auburn.k12.ma.us/schools/pakachoag-elementary-sch
 ool/calendar/8815150/neon-dance-kindergarten
DTSTART:20260327T210000Z
DTEND:20260327T223000Z
END:VEVENT
END:VCALENDAR
