BEGIN:VCALENDAR
VERSION:2.0
PRODID:SchoolNow
CALSCALE:GREGORIAN
BEGIN:VEVENT
UID:da36a856-d7cb-11f0-aba6-0affd144efb3
DTSTAMP:20260421T150520Z
SUMMARY:Winter Concert - Grade 1
URL;VALUE=URI:https://www.auburn.k12.ma.us/schools/pakachoag-elementary-sch
 ool/calendar/8823224/winter-concert-grade-1
DTSTART:20260120T183000Z
DTEND:20260120T190000Z
END:VEVENT
END:VCALENDAR
