BEGIN:VCALENDAR
VERSION:2.0
PRODID:SchoolNow
CALSCALE:GREGORIAN
BEGIN:VEVENT
UID:da36ad74-d7cb-11f0-8c63-0affd144efb3
DTSTAMP:20260421T150520Z
SUMMARY:Winter Concert - Kindergarten
URL;VALUE=URI:https://www.auburn.k12.ma.us/schools/pakachoag-elementary-sch
 ool/calendar/8823225/winter-concert-kindergarten
DTSTART:20260120T143000Z
DTEND:20260120T150000Z
END:VEVENT
END:VCALENDAR
