BEGIN:VCALENDAR
VERSION:2.0
PRODID:SchoolNow
CALSCALE:GREGORIAN
BEGIN:VEVENT
UID:7431e4b4-039d-11f1-9387-0a58a9feac02
DTSTAMP:20260421T090020Z
SUMMARY:Pakachoag Community Reading Day
URL;VALUE=URI:https://www.auburn.k12.ma.us/schools/pakachoag-elementary-sch
 ool/calendar/8850771/pakachoag-community-reading-day
DTSTART;VALUE=DATE:20260417
DTEND;VALUE=DATE:20260418
END:VEVENT
END:VCALENDAR
