BEGIN:VCALENDAR
VERSION:2.0
PRODID:SchoolNow
CALSCALE:GREGORIAN
BEGIN:VEVENT
UID:7fc08166-1656-11f1-bb7e-0a58a9feac02
DTSTAMP:20260421T090020Z
SUMMARY:PTO Meeting at Swanson
URL;VALUE=URI:https://www.auburn.k12.ma.us/schools/pakachoag-elementary-sch
 ool/calendar/8883992/pto-meeting-at-swanson
DTSTART:20260504T223000Z
DTEND:20260504T230000Z
END:VEVENT
END:VCALENDAR
