BEGIN:VCALENDAR
VERSION:2.0
PRODID:SchoolNow
CALSCALE:GREGORIAN
BEGIN:VEVENT
UID:7fc084c2-1656-11f1-8ab8-0a58a9feac02
DTSTAMP:20260421T090020Z
SUMMARY:PTO Meeting @ Swanson
URL;VALUE=URI:https://www.auburn.k12.ma.us/schools/pakachoag-elementary-sch
 ool/calendar/8883993/pto-meeting-swanson
DTSTART:20260302T233000Z
DTEND:20260303T000000Z
END:VEVENT
END:VCALENDAR
