BEGIN:VCALENDAR
VERSION:2.0
PRODID:SchoolNow
CALSCALE:GREGORIAN
BEGIN:VEVENT
UID:7fc0879c-1656-11f1-b7ea-0a58a9feac02
DTSTAMP:20260421T090020Z
SUMMARY:PTO Meeting at Swanson
URL;VALUE=URI:https://www.auburn.k12.ma.us/schools/pakachoag-elementary-sch
 ool/calendar/8883994/pto-meeting-at-swanson
DTSTART:20260406T223000Z
DTEND:20260406T230000Z
END:VEVENT
END:VCALENDAR
