BEGIN:VCALENDAR
VERSION:2.0
PRODID:SchoolNow
CALSCALE:GREGORIAN
BEGIN:VEVENT
UID:7a2cd162-16bc-11f1-8d47-0a58a9feac02
DTSTAMP:20260421T090020Z
SUMMARY:Neon Dance!  Grade 2
URL;VALUE=URI:https://www.auburn.k12.ma.us/schools/pakachoag-elementary-sch
 ool/calendar/8885796/neon-dance-grade-2
DTSTART:20260327T230000Z
DTEND:20260328T003000Z
END:VEVENT
END:VCALENDAR
