BEGIN:VCALENDAR
VERSION:2.0
PRODID:SchoolNow
CALSCALE:GREGORIAN
BEGIN:VEVENT
UID:7a2cd5cc-16bc-11f1-8832-0a58a9feac02
DTSTAMP:20260421T150520Z
SUMMARY:PTO Meeting at Swanson Elementary
URL;VALUE=URI:https://www.auburn.k12.ma.us/schools/pakachoag-elementary-sch
 ool/calendar/8885797/pto-meeting-at-swanson-elementary
DTSTART:20260601T223000Z
DTEND:20260601T230000Z
END:VEVENT
END:VCALENDAR
