BEGIN:VCALENDAR
VERSION:2.0
PRODID:SchoolNow
CALSCALE:GREGORIAN
BEGIN:VEVENT
UID:7a2cd7ca-16bc-11f1-a3b3-0a58a9feac02
DTSTAMP:20260421T090020Z
SUMMARY:Neon Dance! First Grade
URL;VALUE=URI:https://www.auburn.k12.ma.us/schools/pakachoag-elementary-sch
 ool/calendar/8885798/neon-dance-first-grade
DTSTART:20260327T220000Z
DTEND:20260327T233000Z
END:VEVENT
END:VCALENDAR
